View In:
ArcGIS JavaScript
ArcGIS Online Map Viewer
ArcGIS Earth
Service Description: Imagery/Cherokee_1953_tif
Name: Imagery/Cherokee_1953_tif
Description:
Single Fused Map Cache: true
Tile Info:
- Height: 256
- Width: 256
- DPI: 96
-
Levels of Detail: 24
-
Level ID: 0
[ Start Tile, End Tile ]
- Resolution: 967512.16557454993
- Scale: 1114576243.8943694
-
Level ID: 1
[ Start Tile, End Tile ]
- Resolution: 483756.08278727497
- Scale: 557288121.94718468
-
Level ID: 2
[ Start Tile, End Tile ]
- Resolution: 241878.04139363748
- Scale: 278644060.97359234
-
Level ID: 3
[ Start Tile, End Tile ]
- Resolution: 120939.02069681874
- Scale: 139322030.48679617
-
Level ID: 4
[ Start Tile, End Tile ]
- Resolution: 60469.510348409371
- Scale: 69661015.243398085
-
Level ID: 5
[ Start Tile, End Tile ]
- Resolution: 30234.755174204685
- Scale: 34830507.621699043
-
Level ID: 6
[ Start Tile, End Tile ]
- Resolution: 15117.377587102343
- Scale: 17415253.810849521
-
Level ID: 7
[ Start Tile, End Tile ]
- Resolution: 7558.6887935511713
- Scale: 8707626.9054247607
-
Level ID: 8
[ Start Tile, End Tile ]
- Resolution: 3779.3443967755857
- Scale: 4353813.4527123803
-
Level ID: 9
[ Start Tile, End Tile ]
- Resolution: 1889.6721983877928
- Scale: 2176906.7263561902
-
Level ID: 10
[ Start Tile, End Tile ]
- Resolution: 944.83609919389642
- Scale: 1088453.3631780951
-
Level ID: 11
[ Start Tile, End Tile ]
- Resolution: 472.41804959694821
- Scale: 544226.68158904754
-
Level ID: 12
[ Start Tile, End Tile ]
- Resolution: 236.2090247984741
- Scale: 272113.34079452377
-
Level ID: 13
[ Start Tile, End Tile ]
- Resolution: 118.10451239923705
- Scale: 136056.67039726189
-
Level ID: 14
[ Start Tile, End Tile ]
- Resolution: 59.052256199618526
- Scale: 68028.335198630943
-
Level ID: 15
[ Start Tile, End Tile ]
- Resolution: 29.526128099809263
- Scale: 34014.167599315471
-
Level ID: 16
[ Start Tile, End Tile ]
- Resolution: 14.763064049904632
- Scale: 17007.083799657736
-
Level ID: 17
[ Start Tile, End Tile ]
- Resolution: 7.3815320249523158
- Scale: 8503.5418998288678
-
Level ID: 18
[ Start Tile, End Tile ]
- Resolution: 3.6907660124761579
- Scale: 4251.7709499144339
-
Level ID: 19
[ Start Tile, End Tile ]
- Resolution: 1.8453830062380789
- Scale: 2125.885474957217
-
Level ID: 20
[ Start Tile, End Tile ]
- Resolution: 0.92269150311903947
- Scale: 1062.9427374786085
-
Level ID: 21
[ Start Tile, End Tile ]
- Resolution: 0.46134575155951973
- Scale: 531.47136873930424
-
Level ID: 22
[ Start Tile, End Tile ]
- Resolution: 0.23067287577975987
- Scale: 265.73568436965212
-
Level ID: 23
[ Start Tile, End Tile ]
- Resolution: 0.11533643788987993
- Scale: 132.86784218482606
- Format: MIXED
- Compression Quality: 75.0
- LERC Error: NaN
- Origin: X: -1.2184155719354239E8
Y: 1.0696902451173073E8
- Spatial Reference: PROJCS["NAD_1983_StatePlane_North_Carolina_FIPS_3200_Feet",GEOGCS["GCS_North_American_1983",DATUM["D_North_American_1983",SPHEROID["GRS_1980",6378137.0,298.257222101]],PRIMEM["Greenwich",0.0],UNIT["Degree",0.0174532925199433]],PROJECTION["Lambert_Conformal_Conic"],PARAMETER["False_Easting",2000000.0],PARAMETER["False_Northing",0.0],PARAMETER["Central_Meridian",-79.0],PARAMETER["Standard_Parallel_1",34.3333333333333],PARAMETER["Standard_Parallel_2",36.1666666666667],PARAMETER["Latitude_Of_Origin",33.75],UNIT["Foot_US",0.3048006096012192]]
Storage Info:
- Storage Format: esriMapCacheStorageModeCompactV2
- Packet Size: 128
Extent:
XMin: 405616.25623138226
YMin: 487872.43542124797
XMax: 603822.9843675313
YMax: 594317.7428347077
Spatial Reference: PROJCS["NAD_1983_StatePlane_North_Carolina_FIPS_3200_Feet",GEOGCS["GCS_North_American_1983",DATUM["D_North_American_1983",SPHEROID["GRS_1980",6378137.0,298.257222101]],PRIMEM["Greenwich",0.0],UNIT["Degree",0.0174532925199433]],PROJECTION["Lambert_Conformal_Conic"],PARAMETER["False_Easting",2000000.0],PARAMETER["False_Northing",0.0],PARAMETER["Central_Meridian",-79.0],PARAMETER["Standard_Parallel_1",34.3333333333333],PARAMETER["Standard_Parallel_2",36.1666666666667],PARAMETER["Latitude_Of_Origin",33.75],UNIT["Foot_US",0.3048006096012192]]
Initial Extent:
XMin: 405616.25623138226
YMin: 487872.43542124797
XMax: 603822.9843675313
YMax: 594317.7428347077
Spatial Reference: PROJCS["NAD_1983_StatePlane_North_Carolina_FIPS_3200_Feet",GEOGCS["GCS_North_American_1983",DATUM["D_North_American_1983",SPHEROID["GRS_1980",6378137.0,298.257222101]],PRIMEM["Greenwich",0.0],UNIT["Degree",0.0174532925199433]],PROJECTION["Lambert_Conformal_Conic"],PARAMETER["False_Easting",2000000.0],PARAMETER["False_Northing",0.0],PARAMETER["Central_Meridian",-79.0],PARAMETER["Standard_Parallel_1",34.3333333333333],PARAMETER["Standard_Parallel_2",36.1666666666667],PARAMETER["Latitude_Of_Origin",33.75],UNIT["Foot_US",0.3048006096012192]]
Full Extent:
XMin: 405616.25623138226
YMin: 487872.43542124797
XMax: 603822.9843675313
YMax: 594317.7428347077
Spatial Reference: PROJCS["NAD_1983_StatePlane_North_Carolina_FIPS_3200_Feet",GEOGCS["GCS_North_American_1983",DATUM["D_North_American_1983",SPHEROID["GRS_1980",6378137.0,298.257222101]],PRIMEM["Greenwich",0.0],UNIT["Degree",0.0174532925199433]],PROJECTION["Lambert_Conformal_Conic"],PARAMETER["False_Easting",2000000.0],PARAMETER["False_Northing",0.0],PARAMETER["Central_Meridian",-79.0],PARAMETER["Standard_Parallel_1",34.3333333333333],PARAMETER["Standard_Parallel_2",36.1666666666667],PARAMETER["Latitude_Of_Origin",33.75],UNIT["Foot_US",0.3048006096012192]]
Pixel Size X: 2.7097041319008164
Pixel Size Y: 2.709704131900816
Band Count: 3
Pixel Type: U8
RasterFunction Infos: {"rasterFunctionInfos": [{
"help": "",
"name": "None",
"description": ""
}]}
Mensuration Capabilities: Basic
Inspection Capabilities:
Has Histograms: true
Has Colormap: false
Has Multi Dimensions : false
Rendering Rule:
Min Scale: 1114576243.8943694
Max Scale: 1062.9427374786085
Min LOD: 0
Max LOD: 20
Copyright Text:
Service Data Type: esriImageServiceDataTypeRGB
Min Values: 0, 0, 0
Max Values: 255, 255, 255
Mean Values: 94.728305944897002, 93.657778761363005, 84.755557481514003
Standard Deviation Values: 84.346276522349001, 82.942083304620994, 76.690753432671002
Object ID Field:
Fields:
None
Default Mosaic Method: Center
Allowed Mosaic Methods:
SortField:
SortValue: N/A
Mosaic Operator: First
Default Compression Quality: 75
Default Resampling Method: Bilinear
Max Record Count: null
Max Image Height: 4100
Max Image Width: 15000
Max Download Image Count: null
Max Mosaic Image Count: null
Allow Raster Function: true
Allow Copy: true
Allow Analysis: true
Allow Compute TiePoints: false
Supports Statistics: false
Supports Advanced Queries: false
Use StandardizedQueries: false
Raster Type Infos:
Name: Raster Dataset
Description: Supports all ArcGIS Raster Datasets
Help:
Has Raster Attribute Table: false
Edit Fields Info: N/A
Ownership Based AccessControl For Rasters: N/A
Child Resources:
Info
Histograms
Statistics
Key Properties
Legend
Raster Function Infos
Supported Operations:
Export Image
Identify
Measure
Compute Histograms
Compute Statistics Histograms
Get Samples
Compute Class Statistics
Query Boundary
Compute Pixel Location
Compute Angles
Validate
Project