<?xml version="1.0" encoding="UTF-8"?>
<Capabilities xmlns="http://www.opengis.net/wmts/1.0"
xmlns:ows="http://www.opengis.net/ows/1.1"
xmlns:xlink="http://www.w3.org/1999/xlink"
xmlns:xsi="http://www.w3.org/2001/XMLSchema-instance"
xmlns:gml="http://www.opengis.net/gml"
xsi:schemaLocation="http://www.opengis.net/wmts/1.0 http://schemas.opengis.net/wmts/1.0/wmtsGetCapabilities_response.xsd"
version="1.0.0">
<!-- Service Identification --> <ows:ServiceIdentification>
<ows:Title>Imagery_Cherokee_1953_tif</ows:Title>
<ows:ServiceType>OGC WMTS</ows:ServiceType>
<ows:ServiceTypeVersion>1.0.0</ows:ServiceTypeVersion>
</ows:ServiceIdentification> <!-- Operations Metadata --> <ows:OperationsMetadata>
<ows:Operation name="GetCapabilities">
<ows:DCP>
<ows:HTTP>
<ows:Get xlink:href="https://maps.cherokeecounty-nc.gov/ccgis/rest/services/Imagery/Cherokee_1953_tif/ImageServer/WMTS/1.0.0/WMTSCapabilities.xml">
<ows:Constraint name="GetEncoding">
<ows:AllowedValues>
<ows:Value>RESTful</ows:Value>
</ows:AllowedValues>
</ows:Constraint>
</ows:Get>
<!-- add KVP binding in 10.1 -->
<ows:Get xlink:href="https://maps.cherokeecounty-nc.gov/ccgis/rest/services/Imagery/Cherokee_1953_tif/ImageServer/WMTS?">
<ows:Constraint name="GetEncoding">
<ows:AllowedValues>
<ows:Value>KVP</ows:Value>
</ows:AllowedValues>
</ows:Constraint>
</ows:Get>
</ows:HTTP>
</ows:DCP>
</ows:Operation>
<ows:Operation name="GetTile">
<ows:DCP>
<ows:HTTP>
<ows:Get xlink:href="https://maps.cherokeecounty-nc.gov/ccgis/rest/services/Imagery/Cherokee_1953_tif/ImageServer/WMTS/tile/1.0.0/">
<ows:Constraint name="GetEncoding">
<ows:AllowedValues>
<ows:Value>RESTful</ows:Value>
</ows:AllowedValues>
</ows:Constraint>
</ows:Get>
<ows:Get xlink:href="https://maps.cherokeecounty-nc.gov/ccgis/rest/services/Imagery/Cherokee_1953_tif/ImageServer/WMTS?">
<ows:Constraint name="GetEncoding">
<ows:AllowedValues>
<ows:Value>KVP</ows:Value>
</ows:AllowedValues>
</ows:Constraint>
</ows:Get>
</ows:HTTP>
</ows:DCP>
</ows:Operation>
</ows:OperationsMetadata> <Contents>
<!--Layer--> <Layer>
<ows:Title>Imagery_Cherokee_1953_tif</ows:Title> <ows:Identifier>Imagery_Cherokee_1953_tif</ows:Identifier>
<ows:BoundingBox crs="urn:ogc:def:crs:EPSG::0">
<ows:LowerCorner>405616.25623138226 487872.43542124797</ows:LowerCorner>
<ows:UpperCorner>603822.9843675313 594317.7428347077</ows:UpperCorner>
</ows:BoundingBox> <ows:WGS84BoundingBox crs="urn:ogc:def:crs:OGC:2:84">
<ows:LowerCorner>-180.0 -90.0</ows:LowerCorner>
<ows:UpperCorner>180.0 90.0</ows:UpperCorner>
</ows:WGS84BoundingBox>
<Style isDefault="true">
<ows:Title>Default Style</ows:Title>
<ows:Identifier>default</ows:Identifier>
</Style>
<Format>image/jpgpng</Format>
<TileMatrixSetLink>
<TileMatrixSet>default028mm</TileMatrixSet>
</TileMatrixSetLink>
<ResourceURL format="image/jpgpng" resourceType="tile" template="https://maps.cherokeecounty-nc.gov/ccgis/rest/services/Imagery/Cherokee_1953_tif/ImageServer/WMTS/tile/1.0.0/Imagery_Cherokee_1953_tif/{Style}/{TileMatrixSet}/{TileMatrix}/{TileRow}/{TileCol}" />
</Layer> <!--TileMatrixSet-->
<TileMatrixSet>
<ows:Title>TileMatrix using 0.28mm</ows:Title>
<ows:Abstract>The tile matrix set that has scale values calculated based on the dpi defined by OGC specification (dpi assumes 0.28mm as the physical distance of a pixel).</ows:Abstract> <ows:Identifier>default028mm</ows:Identifier>
<ows:SupportedCRS>urn:ogc:def:crs:EPSG::0</ows:SupportedCRS>
<TileMatrix>
<ows:Identifier>0</ows:Identifier>
<ScaleDenominator>1.0532082066560053E9</ScaleDenominator>
<TopLeftCorner>-1.2184155719354239E8 1.0696902451173073E8</TopLeftCorner> <TileWidth>256</TileWidth> <TileHeight>256</TileHeight>
<MatrixWidth>1</MatrixWidth> <MatrixHeight>1</MatrixHeight>
</TileMatrix>
<TileMatrix>
<ows:Identifier>1</ows:Identifier>
<ScaleDenominator>5.2660410332800263E8</ScaleDenominator>
<TopLeftCorner>-1.2184155719354239E8 1.0696902451173073E8</TopLeftCorner> <TileWidth>256</TileWidth> <TileHeight>256</TileHeight>
<MatrixWidth>1</MatrixWidth> <MatrixHeight>1</MatrixHeight>
</TileMatrix>
<TileMatrix>
<ows:Identifier>2</ows:Identifier>
<ScaleDenominator>2.6330205166400132E8</ScaleDenominator>
<TopLeftCorner>-1.2184155719354239E8 1.0696902451173073E8</TopLeftCorner> <TileWidth>256</TileWidth> <TileHeight>256</TileHeight>
<MatrixWidth>2</MatrixWidth> <MatrixHeight>2</MatrixHeight>
</TileMatrix>
<TileMatrix>
<ows:Identifier>3</ows:Identifier>
<ScaleDenominator>1.3165102583200066E8</ScaleDenominator>
<TopLeftCorner>-1.2184155719354239E8 1.0696902451173073E8</TopLeftCorner> <TileWidth>256</TileWidth> <TileHeight>256</TileHeight>
<MatrixWidth>4</MatrixWidth> <MatrixHeight>4</MatrixHeight>
</TileMatrix>
<TileMatrix>
<ows:Identifier>4</ows:Identifier>
<ScaleDenominator>6.582551291600033E7</ScaleDenominator>
<TopLeftCorner>-1.2184155719354239E8 1.0696902451173073E8</TopLeftCorner> <TileWidth>256</TileWidth> <TileHeight>256</TileHeight>
<MatrixWidth>8</MatrixWidth> <MatrixHeight>7</MatrixHeight>
</TileMatrix>
<TileMatrix>
<ows:Identifier>5</ows:Identifier>
<ScaleDenominator>3.2912756458000164E7</ScaleDenominator>
<TopLeftCorner>-1.2184155719354239E8 1.0696902451173073E8</TopLeftCorner> <TileWidth>256</TileWidth> <TileHeight>256</TileHeight>
<MatrixWidth>16</MatrixWidth> <MatrixHeight>14</MatrixHeight>
</TileMatrix>
<TileMatrix>
<ows:Identifier>6</ows:Identifier>
<ScaleDenominator>1.6456378229000082E7</ScaleDenominator>
<TopLeftCorner>-1.2184155719354239E8 1.0696902451173073E8</TopLeftCorner> <TileWidth>256</TileWidth> <TileHeight>256</TileHeight>
<MatrixWidth>32</MatrixWidth> <MatrixHeight>28</MatrixHeight>
</TileMatrix>
<TileMatrix>
<ows:Identifier>7</ows:Identifier>
<ScaleDenominator>8228189.114500041</ScaleDenominator>
<TopLeftCorner>-1.2184155719354239E8 1.0696902451173073E8</TopLeftCorner> <TileWidth>256</TileWidth> <TileHeight>256</TileHeight>
<MatrixWidth>64</MatrixWidth> <MatrixHeight>56</MatrixHeight>
</TileMatrix>
<TileMatrix>
<ows:Identifier>8</ows:Identifier>
<ScaleDenominator>4114094.5572500206</ScaleDenominator>
<TopLeftCorner>-1.2184155719354239E8 1.0696902451173073E8</TopLeftCorner> <TileWidth>256</TileWidth> <TileHeight>256</TileHeight>
<MatrixWidth>127</MatrixWidth> <MatrixHeight>111</MatrixHeight>
</TileMatrix>
<TileMatrix>
<ows:Identifier>9</ows:Identifier>
<ScaleDenominator>2057047.2786250103</ScaleDenominator>
<TopLeftCorner>-1.2184155719354239E8 1.0696902451173073E8</TopLeftCorner> <TileWidth>256</TileWidth> <TileHeight>256</TileHeight>
<MatrixWidth>254</MatrixWidth> <MatrixHeight>221</MatrixHeight>
</TileMatrix>
<TileMatrix>
<ows:Identifier>10</ows:Identifier>
<ScaleDenominator>1028523.6393125051</ScaleDenominator>
<TopLeftCorner>-1.2184155719354239E8 1.0696902451173073E8</TopLeftCorner> <TileWidth>256</TileWidth> <TileHeight>256</TileHeight>
<MatrixWidth>507</MatrixWidth> <MatrixHeight>441</MatrixHeight>
</TileMatrix>
<TileMatrix>
<ows:Identifier>11</ows:Identifier>
<ScaleDenominator>514261.81965625257</ScaleDenominator>
<TopLeftCorner>-1.2184155719354239E8 1.0696902451173073E8</TopLeftCorner> <TileWidth>256</TileWidth> <TileHeight>256</TileHeight>
<MatrixWidth>1013</MatrixWidth> <MatrixHeight>881</MatrixHeight>
</TileMatrix>
<TileMatrix>
<ows:Identifier>12</ows:Identifier>
<ScaleDenominator>257130.90982812628</ScaleDenominator>
<TopLeftCorner>-1.2184155719354239E8 1.0696902451173073E8</TopLeftCorner> <TileWidth>256</TileWidth> <TileHeight>256</TileHeight>
<MatrixWidth>2025</MatrixWidth> <MatrixHeight>1761</MatrixHeight>
</TileMatrix>
<TileMatrix>
<ows:Identifier>13</ows:Identifier>
<ScaleDenominator>128565.45491406314</ScaleDenominator>
<TopLeftCorner>-1.2184155719354239E8 1.0696902451173073E8</TopLeftCorner> <TileWidth>256</TileWidth> <TileHeight>256</TileHeight>
<MatrixWidth>4050</MatrixWidth> <MatrixHeight>3522</MatrixHeight>
</TileMatrix>
<TileMatrix>
<ows:Identifier>14</ows:Identifier>
<ScaleDenominator>64282.72745703157</ScaleDenominator>
<TopLeftCorner>-1.2184155719354239E8 1.0696902451173073E8</TopLeftCorner> <TileWidth>256</TileWidth> <TileHeight>256</TileHeight>
<MatrixWidth>8100</MatrixWidth> <MatrixHeight>7044</MatrixHeight>
</TileMatrix>
<TileMatrix>
<ows:Identifier>15</ows:Identifier>
<ScaleDenominator>32141.363728515786</ScaleDenominator>
<TopLeftCorner>-1.2184155719354239E8 1.0696902451173073E8</TopLeftCorner> <TileWidth>256</TileWidth> <TileHeight>256</TileHeight>
<MatrixWidth>16200</MatrixWidth> <MatrixHeight>14088</MatrixHeight>
</TileMatrix>
<TileMatrix>
<ows:Identifier>16</ows:Identifier>
<ScaleDenominator>16070.681864257893</ScaleDenominator>
<TopLeftCorner>-1.2184155719354239E8 1.0696902451173073E8</TopLeftCorner> <TileWidth>256</TileWidth> <TileHeight>256</TileHeight>
<MatrixWidth>32399</MatrixWidth> <MatrixHeight>28175</MatrixHeight>
</TileMatrix>
<TileMatrix>
<ows:Identifier>17</ows:Identifier>
<ScaleDenominator>8035.340932128946</ScaleDenominator>
<TopLeftCorner>-1.2184155719354239E8 1.0696902451173073E8</TopLeftCorner> <TileWidth>256</TileWidth> <TileHeight>256</TileHeight>
<MatrixWidth>64798</MatrixWidth> <MatrixHeight>56350</MatrixHeight>
</TileMatrix>
<TileMatrix>
<ows:Identifier>18</ows:Identifier>
<ScaleDenominator>4017.670466064473</ScaleDenominator>
<TopLeftCorner>-1.2184155719354239E8 1.0696902451173073E8</TopLeftCorner> <TileWidth>256</TileWidth> <TileHeight>256</TileHeight>
<MatrixWidth>129595</MatrixWidth> <MatrixHeight>112699</MatrixHeight>
</TileMatrix>
<TileMatrix>
<ows:Identifier>19</ows:Identifier>
<ScaleDenominator>2008.8352330322366</ScaleDenominator>
<TopLeftCorner>-1.2184155719354239E8 1.0696902451173073E8</TopLeftCorner> <TileWidth>256</TileWidth> <TileHeight>256</TileHeight>
<MatrixWidth>259189</MatrixWidth> <MatrixHeight>225397</MatrixHeight>
</TileMatrix>
<TileMatrix>
<ows:Identifier>20</ows:Identifier>
<ScaleDenominator>1004.4176165161183</ScaleDenominator>
<TopLeftCorner>-1.2184155719354239E8 1.0696902451173073E8</TopLeftCorner> <TileWidth>256</TileWidth> <TileHeight>256</TileHeight>
<MatrixWidth>518378</MatrixWidth> <MatrixHeight>450793</MatrixHeight>
</TileMatrix>
<TileMatrix>
<ows:Identifier>21</ows:Identifier>
<ScaleDenominator>502.20880825805915</ScaleDenominator>
<TopLeftCorner>-1.2184155719354239E8 1.0696902451173073E8</TopLeftCorner> <TileWidth>256</TileWidth> <TileHeight>256</TileHeight>
<MatrixWidth>1036755</MatrixWidth> <MatrixHeight>901585</MatrixHeight>
</TileMatrix>
<TileMatrix>
<ows:Identifier>22</ows:Identifier>
<ScaleDenominator>251.10440412902958</ScaleDenominator>
<TopLeftCorner>-1.2184155719354239E8 1.0696902451173073E8</TopLeftCorner> <TileWidth>256</TileWidth> <TileHeight>256</TileHeight>
<MatrixWidth>2073509</MatrixWidth> <MatrixHeight>1803169</MatrixHeight>
</TileMatrix>
<TileMatrix>
<ows:Identifier>23</ows:Identifier>
<ScaleDenominator>125.55220206451479</ScaleDenominator>
<TopLeftCorner>-1.2184155719354239E8 1.0696902451173073E8</TopLeftCorner> <TileWidth>256</TileWidth> <TileHeight>256</TileHeight>
<MatrixWidth>4147018</MatrixWidth> <MatrixHeight>3606337</MatrixHeight>
</TileMatrix>
</TileMatrixSet>
</Contents>
<ServiceMetadataURL xlink:href="https://maps.cherokeecounty-nc.gov/ccgis/rest/services/Imagery/Cherokee_1953_tif/ImageServer/WMTS/1.0.0/WMTSCapabilities.xml" /> </Capabilities>
