{
 "extent": {
  "ymin": 474999.92335510463,
  "xmin": 369873.12043254107,
  "ymax": 640000.42335510463,
  "xmax": 640000.12043254101,
  "spatialReference": {
   "latestWkid": 2264,
   "wkid": 102719
  }
 },
 "blockWidth": 1024,
 "mosaicOperator": "First",
 "serviceSourceType": "esriImageServiceSourceTypeDataset",
 "hasMultidimensions": false,
 "maxImageWidth": 15000,
 "tileInfo": {
  "lods": [
   {
    "level": 0,
    "scale": 1114576243.8943706,
    "resolution": 967512.16557455086
   },
   {
    "level": 1,
    "scale": 557288121.94718528,
    "resolution": 483756.08278727543
   },
   {
    "level": 2,
    "scale": 278644060.97359264,
    "resolution": 241878.04139363772
   },
   {
    "level": 3,
    "scale": 139322030.48679632,
    "resolution": 120939.02069681886
   },
   {
    "level": 4,
    "scale": 69661015.24339816,
    "resolution": 60469.510348409429
   },
   {
    "level": 5,
    "scale": 34830507.62169908,
    "resolution": 30234.755174204714
   },
   {
    "level": 6,
    "scale": 17415253.81084954,
    "resolution": 15117.377587102357
   },
   {
    "level": 7,
    "scale": 8707626.90542477,
    "resolution": 7558.6887935511786
   },
   {
    "level": 8,
    "scale": 4353813.452712385,
    "resolution": 3779.3443967755893
   },
   {
    "level": 9,
    "scale": 2176906.7263561925,
    "resolution": 1889.6721983877947
   },
   {
    "level": 10,
    "scale": 1088453.3631780962,
    "resolution": 944.83609919389733
   },
   {
    "level": 11,
    "scale": 544226.68158904812,
    "resolution": 472.41804959694866
   },
   {
    "level": 12,
    "scale": 272113.34079452406,
    "resolution": 236.20902479847433
   },
   {
    "level": 13,
    "scale": 136056.67039726203,
    "resolution": 118.10451239923717
   },
   {
    "level": 14,
    "scale": 68028.335198631015,
    "resolution": 59.052256199618583
   },
   {
    "level": 15,
    "scale": 34014.167599315508,
    "resolution": 29.526128099809291
   },
   {
    "level": 16,
    "scale": 17007.083799657754,
    "resolution": 14.763064049904646
   },
   {
    "level": 17,
    "scale": 8503.5418998288769,
    "resolution": 7.3815320249523229
   },
   {
    "level": 18,
    "scale": 4251.7709499144385,
    "resolution": 3.6907660124761614
   },
   {
    "level": 19,
    "scale": 2125.8854749572192,
    "resolution": 1.8453830062380807
   },
   {
    "level": 20,
    "scale": 1062.9427374786096,
    "resolution": 0.92269150311904036
   },
   {
    "level": 21,
    "scale": 531.47136873930481,
    "resolution": 0.46134575155952018
   },
   {
    "level": 22,
    "scale": 265.7356843696524,
    "resolution": 0.23067287577976009
   },
   {
    "level": 23,
    "scale": 132.8678421848262,
    "resolution": 0.11533643788988004
   }
  ],
  "origin": {
   "x": -121841557.19092584,
   "y": 106969024.51173094
  },
  "format": "MIXED",
  "compressionQuality": 75,
  "rows": 256,
  "dpi": 96,
  "spatialReference": {
   "latestWkid": 2264,
   "wkid": 102719
  },
  "cols": 256
 },
 "meanValues": [
  79.285291943828994,
  76.994826311899004,
  63.565410199557
 ],
 "hasColormap": false,
 "compressionType": "Wavelet (MG3)",
 "defaultCompressionQuality": 75,
 "maxValues": [
  150,
  142,
  126
 ],
 "hasHistograms": true,
 "datasetFormat": "MrSID",
 "maxImageHeight": 4100,
 "sortField": "",
 "bandNames": [
  "Band_1",
  "Band_2",
  "Band_3"
 ],
 "spatialReference": {
  "latestWkid": 2264,
  "wkid": 102719
 },
 "fullExtent": {
  "ymin": 474999.92335510463,
  "xmin": 369873.12043254107,
  "ymax": 640000.42335510463,
  "xmax": 640000.12043254101,
  "spatialReference": {
   "latestWkid": 2264,
   "wkid": 102719
  }
 },
 "bandCount": 3,
 "rasterFunctionInfos": [
  {
   "help": "",
   "name": "None",
   "description": ""
  }
 ],
 "supportsStatistics": false,
 "sortableFields": "",
 "minValues": [
  0,
  0,
  0
 ],
 "allowRasterFunction": true,
 "allowComputeTiePoints": false,
 "serviceDataType": "esriImageServiceDataTypeRGB",
 "supportsAdvancedQueries": false,
 "currentVersion": 12.1,
 "sortValue": null,
 "objectIdField": "",
 "maxLOD": 21,
 "blockHeight": 128,
 "initialExtent": {
  "ymin": 474999.92335510463,
  "xmin": 369873.12043254107,
  "ymax": 640000.42335510463,
  "xmax": 640000.12043254101,
  "spatialReference": {
   "latestWkid": 2264,
   "wkid": 102719
  }
 },
 "pixelSizeX": 0.49999999999999989,
 "pixelSizeY": 0.5,
 "defaultMosaicMethod": "Center",
 "name": "Imagery/Cherokee_2015",
 "allowedMosaicMethods": "",
 "fields": [],
 "allowAnalysis": true,
 "hasRasterAttributeTable": false,
 "useStandardizedQueries": false,
 "description": "",
 "pixelType": "U8",
 "meanPixelSize": 0.15240030480060959,
 "exportTilesAllowed": false,
 "editFieldsInfo": null,
 "rasterTypeInfos": [
  {
   "help": "",
   "name": "Raster Dataset",
   "description": "Supports all ArcGIS Raster Datasets"
  }
 ],
 "defaultResamplingMethod": "Bilinear",
 "itemAccess": false,
 "minScale": 1114576243.8943706,
 "cacheType": "Map",
 "serviceProperties": "Center<\/MosaicMethod>First<\/MosaicOperator>true<\/SortAscending><\/LockImageID><\/TileOrderField>0<\/TileOrderBase>0.000000<\/AvgImageSpacingX>0.000000<\/AvgImageSpacingY>0.0<\/ViewPointX>0.0<\/ViewPointY>0.0<\/ViewPointDefShiftX>0.0<\/ViewPointDefShiftY>None<\/CompressionMethod>75<\/CompressionQuality>0.010000<\/CompressionTolerance>Bilinear<\/SamplingMethod><\/ImageServiceProperties><\/ImageServer>",
 "advancedQueryCapabilities": {
  "supportsStatistics": false,
  "supportsSqlExpression": false,
  "supportsOrderBy": false,
  "useStandardizedQueries": false,
  "supportsPagination": false,
  "supportsDistinct": false
 },
 "capabilities": "Image,Metadata,Mensuration,Tilemap",
 "maxScale": 531.47136873930481,
 "singleFusedMapCache": true,
 "stdvValues": [
  25.919026181340001,
  21.483247117558999,
  17.786997526373
 ],
 "allowedFields": "",
 "minPixelSize": 0.46134575155952018,
 "storageInfo": {
  "storageFormat": "esriMapCacheStorageModeCompactV2",
  "packetSize": 128
 },
 "sortAscending": true,
 "inspectionCapabilities": "",
 "minLOD": 0,
 "maxPixelSize": 967512.16557455086,
 "allowedCompressions": "None,JPEG,LZ77,LERC",
 "uncompressedSize": 534853080762,
 "serviceDescription": "Imagery/Cherokee_2015",
 "allowCopy": true,
 "copyrightText": "",
 "mensurationCapabilities": "Basic",
 "ownershipBasedAccessControlForRasters": null
}
