<?xml version="1.0" encoding="UTF-8" standalone="no"?>
<metadata>
<idinfo>
<citation>
<citeinfo>
<origin>Geofiny Technologies, LLC Wilmington, NC</origin>
<pubdate>2008</pubdate>
<pubtime>Unknown</pubtime>
<title>Cherokee-NC-2008</title>
<geoform Sync="TRUE">raster digital data</geoform>
<pubinfo>
<pubplace>Murphy, NC 28906</pubplace>
<publish>Cherokee County, NC GIS Department</publish>
</pubinfo>
<ftname Sync="TRUE">Cherokee-NC-2008-30to1.sid</ftname>
<onlink>withheld</onlink>
</citeinfo>
</citation>
<descript>
<abstract>A digital orthophoto is a raster image of an aerial photograph that through a process of differential rectification has been transformed to an accurate uniform scale and specified tolerance. Cherokee County, NC orthophotos consist of a tiff file format, one file for each of the 166 1"=400' tax maps which each cover an area of 10,000' X 10,000'. Pixel size represents 1' on the ground and color images are 286 megabytes per orthophoto tax map. No attributes available. Each tiff has a corresponding enhanced "TFW" file that contains geographic coordinate system information and data relating to aerial camera, aerial flight, map accuracy's etc. These orthos were produced from an aerial photography flight covering Cherokee County, North Carolina on April, 16th 2008. </abstract>
<purpose>Used as a base layer for locating tax properties in the tax mapping process, E911 mapping and related base mapping efforts. The digital orthophoto can be used alone or as a basemap for overlaying vector line data. </purpose>
<supplinf>Digital Orthophotos were produced from an aerial photography flight in the 2008 Spring flying season using digital photogrammety techniques.</supplinf>
<langdata Sync="TRUE">en</langdata>
</descript>
<timeperd>
<timeinfo>
<sngdate>
<caldate>April 16th 2008</caldate>
<time>unknown</time>
</sngdate>
</timeinfo>
<current>ground condition</current>
</timeperd>
<status>
<progress>Complete</progress>
<update>Unknown</update>
</status>
<spdom>
<bounding>
<westbc>-84.510161</westbc>
<eastbc>-83.510161</eastbc>
<northbc>35.330397</northbc>
<southbc>34.928224</southbc>
</bounding>
<lboundng>
<leftbc Sync="TRUE">400000.000000</leftbc>
<rightbc Sync="TRUE">610000.000000</rightbc>
<bottombc Sync="TRUE">480000.000000</bottombc>
<topbc Sync="TRUE">600000.000000</topbc>
</lboundng>
</spdom>
<keywords>
<theme>
<themekey>Orthophotos</themekey>
<themekey>Digital Imagery</themekey>
<themekey>Photography</themekey>
<themekey>Aerial Photograph</themekey>
<themekey>Mosaic</themekey>
<themekey>Cadastral</themekey>
<themekey>E911</themekey>
<themekey>IS0 19115 Topic Category</themekey>
<themekey>Imagery</themekey>
<themekey>Base Maps</themekey>
<themekey>Earth Cover</themekey>
<themekt>REQUIRED: Reference to a formally registered thesaurus or a similar authoritative source of theme keywords.</themekt>
</theme>
<place>
<placekt>Geographic Information Services</placekt>
<placekey>Cherokee County, NC</placekey>
<placekey>Murphy</placekey>
<placekey>Andrews</placekey>
<placekey>Nantahala National Forest</placekey>
<placekey>Hiwassee Lake</placekey>
<placekey>Hiwassee River</placekey>
<placekey>Cherokee Indian Reservation</placekey>
</place>
</keywords>
<accconst>None</accconst>
<useconst>Cherokee County, NC GIS Department shall not be held liable for any errors in this data. This includes errors of omission, commission, errors concerning the content of the data, and relative and positional accuracy of the data. This data cannot be constructed to be a legal document. Primary sources from which this data was compiled must be consulted for verification of information contained in this data.</useconst>
<ptcontac>
<cntinfo>
<cntorgp>
<cntorg>Cherokee County, NC GIS Department</cntorg>
</cntorgp>
<cntaddr>
<addrtype>mailing address</addrtype>
<address>39 Peachtree Street, Suite 104</address>
<city>Murphy</city>
<state>NC</state>
<postal>28906</postal>
<country>USA</country>
</cntaddr>
<cntvoice>(828) 837-6713</cntvoice>
<cntfax>(828) 835-5431</cntfax>
<hours>Monday through Friday 8am to 5pm EST</hours>
<cntemail>gis@cherokeecounty-nc.gov</cntemail>
</cntinfo>
</ptcontac>
<browse>
<browset>TIFF</browset>
</browse>
<secinfo>
<secclass>Unclassified</secclass>
</secinfo>
<native Sync="FALSE">ESRI ArcCatalog 9.2.4.1420</native>
<crossref>
<citeinfo>
<title>Cherokee County, NC 2008 Digital Orthophotos</title>
<origin>Cherokee County, GIS Department</origin>
<pubdate>Unknown</pubdate>
<pubtime>Unknown</pubtime>
<geoform>raster digital data</geoform>
</citeinfo>
</crossref>
<natvform Sync="TRUE">Raster Dataset</natvform>
</idinfo>
<dataqual>
<attracc>
<attraccr>None</attraccr>
</attracc>
<logic>None</logic>
<complete>Dataset is complete</complete>
<posacc>
<horizpa>
<horizpar>The digital orthophoto database delivered by the mapping vendor was compiled according to the "Technical Specifications for Base, Cadastral and Digital Mapping" (NC Land Records Management Program, NC Attorney General's Office). Horizontal accuracy to +/- 8' for 1"=400' orthophotos using FGDC specifications. </horizpar>
</horizpa>
<vertacc>
<vertaccr>None</vertaccr>
</vertacc>
</posacc>
<lineage>
<srcinfo>
<srccite>
<citeinfo>
<origin>Geofiny Technologies, LLC Wilmington, NC</origin>
<pubdate>2008</pubdate>
<pubtime>Unknown</pubtime>
<title>Cherokee County, NC 2008 Digital Orthophotos</title>
<pubinfo>
<pubplace>Murphy NC, 28906</pubplace>
<publish>Cherokee County, NC GIS Department</publish>
</pubinfo>
<geoform>raster digital data</geoform>
</citeinfo>
</srccite>
<srcscale>Unknown</srcscale>
<typesrc>Aerial photography and disc</typesrc>
<srccitea>mosaic, img</srccitea>
<srccontr>Geofiny Technologies, LLC Wilmington, NC flew aerial photography and produced digital orthophotos using digital photogrammetry production techniques. Aerial Photography is from a Spring flight of Cherokee County, NC on April 16th 2008. </srccontr>
</srcinfo>
<procstep>
<procdesc>Task 1: At strategic locations within and around the County existing survey monuments are referenced and used in the orthophoto production.
Task 2: Aerial color photography was flown at a photo scale of 1"=2400' covering Cherokee County, NC using a Leica RC30 aerial camera using Airborne Global Positioning System (AGPS) Task 3: Aerial color photography is processed and the negatives are scanned using a high resolution film scanner. Task 4: Fully Analytical Aerial Triangulation (FAAT) is performed to extrapolate additional image control points on the scanned aerial negatives using the survey monuments and AGPS aerial data. Task 5: Digital Elevation Data (DEM) is processed and edited in a softcopy photogrammetric workstation using the aerial photography. The DEM produced is used in the orthophoto rectification process. Task 6: Color orthophoto tiles at 1"=400' @ 10K' X 10K' are produced using orthophoto image processing software. The tiles are edited for any blemish, radiometry and geometric accuracy. Task 7: Final color orthophoto tiles at 1"=400' @ 10K' X 10K' are delivered in a .tiff format. Compressed imagery of each image tile and a countywide image set is also delivered. </procdesc>
<procdate>2008</procdate>
<proccont>
<cntinfo>
<cntaddr>
<addrtype>mailing address</addrtype>
<address>3137 Wrightsville Avenue</address>
<city>Wilmington</city>
<state>NC</state>
<postal>28403</postal>
<country>USA</country>
</cntaddr>
<cntvoice>(910) 392-1496</cntvoice>
<cntfax>(910) 392-7326</cntfax>
<cntemail>info@geofiny.com</cntemail>
<hours>Monday through Friday 8am to 5pm EST</hours>
<cntorgp>
<cntorg>Geofiny Technologies, LLC</cntorg>
<cntper>Sean E.Maxwell CP, PLS</cntper>
</cntorgp>
</cntinfo>
</proccont>
</procstep>
<procstep>
<procdesc Sync="TRUE">Metadata imported.</procdesc>
<date Sync="TRUE">20080422</date>
<time Sync="TRUE">12445400</time>
</procstep>
<procstep>
<date Sync="TRUE">20081119</date>
<time Sync="TRUE">11363000</time>
</procstep>
<procstep>
<date Sync="TRUE">20081204</date>
<time Sync="TRUE">12291400</time>
</procstep>
<procstep>
<procdesc Sync="TRUE">Metadata imported.</procdesc>
<srcused Sync="FALSE">withheld</srcused>
<date Sync="TRUE">20081209</date>
<time Sync="TRUE">15105400</time>
</procstep>
</lineage>
<cloud>0</cloud>
</dataqual>
<spdoinfo>
<direct Sync="TRUE">Raster</direct>
<rastinfo>
<rasttype Sync="TRUE">Pixel</rasttype>
<rowcount Sync="TRUE">120000</rowcount>
<colcount Sync="TRUE">210000</colcount>
<rastband Sync="TRUE">3</rastband>
<rastxsz Sync="TRUE">1.000000</rastxsz>
<rastxu>Feet</rastxu>
<rastysz Sync="TRUE">1.000000</rastysz>
<rastyu>Feet</rastyu>
<rastifor Sync="TRUE">MrSID</rastifor>
<rastbpp Sync="TRUE">8</rastbpp>
<vrtcount Sync="TRUE">1</vrtcount>
<rastorig Sync="TRUE">Upper Left</rastorig>
<rastcmap Sync="TRUE">FALSE</rastcmap>
<rastcomp Sync="TRUE">Wavelet</rastcomp>
<rastdtyp Sync="TRUE">pixel codes</rastdtyp>
<rastplyr Sync="TRUE">TRUE</rastplyr>
</rastinfo>
</spdoinfo>
<spref>
<horizsys>
<planar>
<planci>
<plance Sync="TRUE">row and column</plance>
<coordrep>
<absres Sync="TRUE">1.000000</absres>
<ordres Sync="TRUE">1.000000</ordres>
</coordrep>
<plandu>feet</plandu>
</planci>
<gridsys>
<gridsysn>Universal Transverse Mercator</gridsysn>
</gridsys>
</planar>
<geodetic>
<horizdn>North American Datum of 1983/2001</horizdn>
<ellips>GRS 80</ellips>
<semiaxis>6378137.000000 </semiaxis>
<denflat>298.257222 </denflat>
</geodetic>
</horizsys>
<vertdef>
<altsys>
<altdatum>North American Vertical Datum of 1988</altdatum>
<altunits>feet</altunits>
</altsys>
</vertdef>
</spref>
<eainfo>
<overview>
<eaover>Orthophotos consist of a tiff file format, one file for each 1"= 400' tax map covering an area of 10,000' X 10000'. Pixel size represents 1.0' on the ground, images are 286 megabytes per tax map grid coverage area, color. No attributes available. Each tiff has a corresponding enhanced "TFW" file that contains geographic coordinate system information and other relevant information regarding project. </eaover>
<eadetcit>For more detailed attributes information contact Cherokee County, NC GIS Department.</eadetcit>
</overview>
</eainfo>
<distinfo>
<distrib>
<cntinfo>
<cntorgp>
<cntorg>Cherokee County, NC GIS Department.</cntorg>
</cntorgp>
<cntaddr>
<addrtype>mailing and physical address</addrtype>
<address>39 Peachtree Street, Suite 104</address>
<city>Murphy</city>
<state>NC</state>
<postal>28906</postal>
<country>USA</country>
</cntaddr>
<cntvoice>(828) 837-6713</cntvoice>
<cntfax>(828) 835-5431</cntfax>
<cntemail>gis@cherokeecounty-nc.gov</cntemail>
<hours>Monday through Friday 8am to 5pm</hours>
</cntinfo>
</distrib>
<distliab>Cherokee County, NC GIS Department is committed to offering its users accurate, useful, and current information about the County. However this data is provided as is. Cherokee County makes no guarantee or warranty either expressed or implied concerning the accuracy of the data. Although every effort has been made to ensure the accuracy of this information, errors and conditions originating from physical sources used to develop the database may be reflected in the data supplied. The user must be aware of the data conditions and bear responsibility for the appropriate use of the information with respect to possible errors, original map scale, collection methodology, currency of date, and other conditions specific to certain data. The use of trade names or commercial products does not constitute their endorsement by the county.</distliab>
<stdorder>
<ordering>Contact : Cherokee County, NC GIS Department by phone or e-mail</ordering>
</stdorder>
<custom>Data is available in magnetic media (DVD). Data can be ordered over the phone, via FAX or E-mail. All data distribution services are billed at $40 per hour. Plus additional cost for media.</custom>
<resdesc Sync="TRUE">Downloadable Data</resdesc>
</distinfo>
<metainfo>
<metd Sync="TRUE">20081215</metd>
<metrd>20081205</metrd>
<metc>
<cntinfo>
<cntorgp>
<cntorg>Cherokee County, NC GIS Department</cntorg>
</cntorgp>
<cntaddr>
<addrtype>mailing and physical address</addrtype>
<address>39 Peachtree Street, Suite 104</address>
<city>Murphy</city>
<state>NC</state>
<postal>28906</postal>
<country>USA</country>
</cntaddr>
<cntvoice>(828) 837-6713</cntvoice>
<cntfax>(828) 835-5431</cntfax>
<cntemail>gis@cherokeecounty-nc.gov</cntemail>
<hours>Monday through Friday 8am to 5pm EST</hours>
</cntinfo>
</metc>
<metstdn Sync="TRUE">FGDC Content Standards for Digital Geospatial Metadata</metstdn>
<metstdv Sync="TRUE">FGDC-STD-001-1998</metstdv>
<metac>None</metac>
<metuc>This metadata file is to accompany the data set identified and received from Cherokee County, NC GIS Department. Cherokee County, NC does not support secondary distribution. If this data file was received from anyone besides Cherokee County, NC this metadata file and the data set it describes may contain discrepancies.</metuc>
<metsi>
<metsc>Unclassified</metsc>
</metsi>
<langmeta Sync="TRUE">en</langmeta>
<mettc Sync="TRUE">local time</mettc>
<metextns>
<onlink Sync="TRUE">http://www.esri.com/metadata/esriprof80.html</onlink>
<metprof Sync="TRUE">ESRI Metadata Profile</metprof>
</metextns>
</metainfo>
<Esri>
<CreaDate>20081209</CreaDate>
<CreaTime>15105400</CreaTime>
<SyncOnce>FALSE</SyncOnce>
<ModDate>20081215</ModDate>
<ModTime>13545500</ModTime>
<MetaID>{4DA8A57F-1C5B-4056-8DB0-DA600CFFF3C8}</MetaID>
<SyncDate>20081215</SyncDate>
<SyncTime>13540000</SyncTime>
<DataProperties>
</DataProperties>
</Esri>
<mdDateSt Sync="TRUE">20081215</mdDateSt>
<distInfo>
<distributor>
<distorTran>
<onLineSrc>
<linkage Sync="FALSE">withheld</linkage>
<protocol Sync="TRUE">Local Area Network</protocol>
<orDesc Sync="TRUE">002</orDesc>
</onLineSrc>
</distorTran>
<distorFormat>
<formatName Sync="TRUE">Raster Dataset</formatName>
</distorFormat>
</distributor>
</distInfo>
<dataIdInfo>
<envirDesc Sync="FALSE">ESRI ArcCatalog 9.2.4.1420</envirDesc>
<dataLang>
<languageCode Sync="TRUE" value="en">
</languageCode>
</dataLang>
<idCitation>
<resTitle Sync="TRUE">Cherokee_2008</resTitle>
<presForm>
<PresFormCd Sync="TRUE" value="005">
</PresFormCd>
</presForm>
</idCitation>
<spatRpType>
<SpatRepTypCd Sync="TRUE" value="002">
</SpatRepTypCd>
</spatRpType>
<dataExt>
<geoEle>
<GeoBndBox esriExtentType="native">
<westBL Sync="TRUE">400000</westBL>
<eastBL Sync="TRUE">610000</eastBL>
<northBL Sync="TRUE">600000</northBL>
<southBL Sync="TRUE">480000</southBL>
<exTypeCode Sync="TRUE">1</exTypeCode>
</GeoBndBox>
</geoEle>
</dataExt>
<idAbs/>
<idPurp/>
<idCredit/>
<resConst>
<Consts>
<useLimit/>
</Consts>
</resConst>
</dataIdInfo>
<mdLang>
<languageCode Sync="TRUE" value="en">
</languageCode>
</mdLang>
<mdStanName Sync="TRUE">ISO 19115 Geographic Information - Metadata</mdStanName>
<mdStanVer Sync="TRUE">DIS_ESRI1.0</mdStanVer>
<mdChar>
<CharSetCd Sync="TRUE" value="004">
</CharSetCd>
</mdChar>
<mdHrLv>
<ScopeCd Sync="TRUE" value="005">
</ScopeCd>
</mdHrLv>
<mdHrLvName Sync="TRUE">dataset</mdHrLvName>
</metadata>
