{
 "extent": {
  "ymin": 483261.93247259915,
  "xmin": 395840.37473147199,
  "ymax": 583586.92909101141,
  "xmax": 590733.20014483994,
  "spatialReference": {
   "wkt": "PROJCS[\"NAD_1983_StatePlane_North_Carolina_FIPS_3200_Feet\",GEOGCS[\"GCS_North_American_1983\",DATUM[\"D_North_American_1983\",SPHEROID[\"GRS_1980\",6378137.0,298.257222101]],PRIMEM[\"Greenwich\",0.0],UNIT[\"Degree\",0.0174532925199433]],PROJECTION[\"Lambert_Conformal_Conic\"],PARAMETER[\"False_Easting\",2000000.0],PARAMETER[\"False_Northing\",0.0],PARAMETER[\"Central_Meridian\",-79.0],PARAMETER[\"Standard_Parallel_1\",34.3333333333333],PARAMETER[\"Standard_Parallel_2\",36.1666666666667],PARAMETER[\"Latitude_Of_Origin\",33.75],UNIT[\"Foot_US\",0.3048006096012192]]",
   "wkt2": "PROJCRS[\"NAD_1983_StatePlane_North_Carolina_FIPS_3200_Feet\",BASEGEOGCRS[\"GCS_North_American_1983\",DATUM[\"D_North_American_1983\",ELLIPSOID[\"GRS_1980\",6378137.0,298.257222101]],PRIMEM[\"Greenwich\",0.0],CS[ellipsoidal,2],AXIS[\"Latitude (lat)\",north,ORDER[1]],AXIS[\"Longitude (lon)\",east,ORDER[2]],ANGLEUNIT[\"Degree\",0.0174532925199433]],CONVERSION[\"Lambert_Conformal_Conic\",METHOD[\"Lambert_Conformal_Conic\"],PARAMETER[\"False_Easting\",2000000.0,LENGTHUNIT[\"Foot_US\",0.3048006096012192]],PARAMETER[\"False_Northing\",0.0,LENGTHUNIT[\"Foot_US\",0.3048006096012192]],PARAMETER[\"Central_Meridian\",-79.0],PARAMETER[\"Standard_Parallel_1\",34.3333333333333],PARAMETER[\"Standard_Parallel_2\",36.1666666666667],PARAMETER[\"Latitude_Of_Origin\",33.75]],CS[Cartesian,2],AXIS[\"Easting (X)\",east,ORDER[1]],AXIS[\"Northing (Y)\",north,ORDER[2]],LENGTHUNIT[\"Foot_US\",0.3048006096012192]]"
  }
 },
 "blockWidth": 128,
 "mosaicOperator": "First",
 "serviceSourceType": "esriImageServiceSourceTypeDataset",
 "hasMultidimensions": false,
 "maxImageWidth": 15000,
 "tileInfo": {
  "lods": [
   {
    "level": 0,
    "scale": 1114576243.8943694,
    "resolution": 967512.16557454993
   },
   {
    "level": 1,
    "scale": 557288121.94718468,
    "resolution": 483756.08278727497
   },
   {
    "level": 2,
    "scale": 278644060.97359234,
    "resolution": 241878.04139363748
   },
   {
    "level": 3,
    "scale": 139322030.48679617,
    "resolution": 120939.02069681874
   },
   {
    "level": 4,
    "scale": 69661015.243398085,
    "resolution": 60469.510348409371
   },
   {
    "level": 5,
    "scale": 34830507.621699043,
    "resolution": 30234.755174204685
   },
   {
    "level": 6,
    "scale": 17415253.810849521,
    "resolution": 15117.377587102343
   },
   {
    "level": 7,
    "scale": 8707626.9054247607,
    "resolution": 7558.6887935511713
   },
   {
    "level": 8,
    "scale": 4353813.4527123803,
    "resolution": 3779.3443967755857
   },
   {
    "level": 9,
    "scale": 2176906.7263561902,
    "resolution": 1889.6721983877928
   },
   {
    "level": 10,
    "scale": 1088453.3631780951,
    "resolution": 944.83609919389642
   },
   {
    "level": 11,
    "scale": 544226.68158904754,
    "resolution": 472.41804959694821
   },
   {
    "level": 12,
    "scale": 272113.34079452377,
    "resolution": 236.2090247984741
   },
   {
    "level": 13,
    "scale": 136056.67039726189,
    "resolution": 118.10451239923705
   },
   {
    "level": 14,
    "scale": 68028.335198630943,
    "resolution": 59.052256199618526
   },
   {
    "level": 15,
    "scale": 34014.167599315471,
    "resolution": 29.526128099809263
   },
   {
    "level": 16,
    "scale": 17007.083799657736,
    "resolution": 14.763064049904632
   },
   {
    "level": 17,
    "scale": 8503.5418998288678,
    "resolution": 7.3815320249523158
   },
   {
    "level": 18,
    "scale": 4251.7709499144339,
    "resolution": 3.6907660124761579
   },
   {
    "level": 19,
    "scale": 2125.885474957217,
    "resolution": 1.8453830062380789
   },
   {
    "level": 20,
    "scale": 1062.9427374786085,
    "resolution": 0.92269150311903947
   },
   {
    "level": 21,
    "scale": 531.47136873930424,
    "resolution": 0.46134575155951973
   },
   {
    "level": 22,
    "scale": 265.73568436965212,
    "resolution": 0.23067287577975987
   },
   {
    "level": 23,
    "scale": 132.86784218482606,
    "resolution": 0.11533643788987993
   }
  ],
  "origin": {
   "x": -121841557.19354239,
   "y": 106969024.51173073
  },
  "format": "MIXED",
  "compressionQuality": 75,
  "rows": 256,
  "dpi": 96,
  "spatialReference": {
   "wkt": "PROJCS[\"NAD_1983_StatePlane_North_Carolina_FIPS_3200_Feet\",GEOGCS[\"GCS_North_American_1983\",DATUM[\"D_North_American_1983\",SPHEROID[\"GRS_1980\",6378137.0,298.257222101]],PRIMEM[\"Greenwich\",0.0],UNIT[\"Degree\",0.0174532925199433]],PROJECTION[\"Lambert_Conformal_Conic\"],PARAMETER[\"False_Easting\",2000000.0],PARAMETER[\"False_Northing\",0.0],PARAMETER[\"Central_Meridian\",-79.0],PARAMETER[\"Standard_Parallel_1\",34.3333333333333],PARAMETER[\"Standard_Parallel_2\",36.1666666666667],PARAMETER[\"Latitude_Of_Origin\",33.75],UNIT[\"Foot_US\",0.3048006096012192]]",
   "wkt2": "PROJCRS[\"NAD_1983_StatePlane_North_Carolina_FIPS_3200_Feet\",BASEGEOGCRS[\"GCS_North_American_1983\",DATUM[\"D_North_American_1983\",ELLIPSOID[\"GRS_1980\",6378137.0,298.257222101]],PRIMEM[\"Greenwich\",0.0],CS[ellipsoidal,2],AXIS[\"Latitude (lat)\",north,ORDER[1]],AXIS[\"Longitude (lon)\",east,ORDER[2]],ANGLEUNIT[\"Degree\",0.0174532925199433]],CONVERSION[\"Lambert_Conformal_Conic\",METHOD[\"Lambert_Conformal_Conic\"],PARAMETER[\"False_Easting\",2000000.0,LENGTHUNIT[\"Foot_US\",0.3048006096012192]],PARAMETER[\"False_Northing\",0.0,LENGTHUNIT[\"Foot_US\",0.3048006096012192]],PARAMETER[\"Central_Meridian\",-79.0],PARAMETER[\"Standard_Parallel_1\",34.3333333333333],PARAMETER[\"Standard_Parallel_2\",36.1666666666667],PARAMETER[\"Latitude_Of_Origin\",33.75]],CS[Cartesian,2],AXIS[\"Easting (X)\",east,ORDER[1]],AXIS[\"Northing (Y)\",north,ORDER[2]],LENGTHUNIT[\"Foot_US\",0.3048006096012192]]"
  },
  "cols": 256
 },
 "meanValues": [
  87.536054689964004
 ],
 "hasColormap": false,
 "compressionType": "LZW",
 "defaultCompressionQuality": 75,
 "maxValues": [
  255
 ],
 "hasHistograms": true,
 "datasetFormat": "TIFF",
 "maxImageHeight": 4100,
 "sortField": "",
 "bandNames": [
  "Band_1"
 ],
 "spatialReference": {
  "wkt": "PROJCS[\"NAD_1983_StatePlane_North_Carolina_FIPS_3200_Feet\",GEOGCS[\"GCS_North_American_1983\",DATUM[\"D_North_American_1983\",SPHEROID[\"GRS_1980\",6378137.0,298.257222101]],PRIMEM[\"Greenwich\",0.0],UNIT[\"Degree\",0.0174532925199433]],PROJECTION[\"Lambert_Conformal_Conic\"],PARAMETER[\"False_Easting\",2000000.0],PARAMETER[\"False_Northing\",0.0],PARAMETER[\"Central_Meridian\",-79.0],PARAMETER[\"Standard_Parallel_1\",34.3333333333333],PARAMETER[\"Standard_Parallel_2\",36.1666666666667],PARAMETER[\"Latitude_Of_Origin\",33.75],UNIT[\"Foot_US\",0.3048006096012192]]",
  "wkt2": "PROJCRS[\"NAD_1983_StatePlane_North_Carolina_FIPS_3200_Feet\",BASEGEOGCRS[\"GCS_North_American_1983\",DATUM[\"D_North_American_1983\",ELLIPSOID[\"GRS_1980\",6378137.0,298.257222101]],PRIMEM[\"Greenwich\",0.0],CS[ellipsoidal,2],AXIS[\"Latitude (lat)\",north,ORDER[1]],AXIS[\"Longitude (lon)\",east,ORDER[2]],ANGLEUNIT[\"Degree\",0.0174532925199433]],CONVERSION[\"Lambert_Conformal_Conic\",METHOD[\"Lambert_Conformal_Conic\"],PARAMETER[\"False_Easting\",2000000.0,LENGTHUNIT[\"Foot_US\",0.3048006096012192]],PARAMETER[\"False_Northing\",0.0,LENGTHUNIT[\"Foot_US\",0.3048006096012192]],PARAMETER[\"Central_Meridian\",-79.0],PARAMETER[\"Standard_Parallel_1\",34.3333333333333],PARAMETER[\"Standard_Parallel_2\",36.1666666666667],PARAMETER[\"Latitude_Of_Origin\",33.75]],CS[Cartesian,2],AXIS[\"Easting (X)\",east,ORDER[1]],AXIS[\"Northing (Y)\",north,ORDER[2]],LENGTHUNIT[\"Foot_US\",0.3048006096012192]]"
 },
 "fullExtent": {
  "ymin": 483261.93247259915,
  "xmin": 395840.37473147199,
  "ymax": 583586.92909101141,
  "xmax": 590733.20014483994,
  "spatialReference": {
   "wkt": "PROJCS[\"NAD_1983_StatePlane_North_Carolina_FIPS_3200_Feet\",GEOGCS[\"GCS_North_American_1983\",DATUM[\"D_North_American_1983\",SPHEROID[\"GRS_1980\",6378137.0,298.257222101]],PRIMEM[\"Greenwich\",0.0],UNIT[\"Degree\",0.0174532925199433]],PROJECTION[\"Lambert_Conformal_Conic\"],PARAMETER[\"False_Easting\",2000000.0],PARAMETER[\"False_Northing\",0.0],PARAMETER[\"Central_Meridian\",-79.0],PARAMETER[\"Standard_Parallel_1\",34.3333333333333],PARAMETER[\"Standard_Parallel_2\",36.1666666666667],PARAMETER[\"Latitude_Of_Origin\",33.75],UNIT[\"Foot_US\",0.3048006096012192]]",
   "wkt2": "PROJCRS[\"NAD_1983_StatePlane_North_Carolina_FIPS_3200_Feet\",BASEGEOGCRS[\"GCS_North_American_1983\",DATUM[\"D_North_American_1983\",ELLIPSOID[\"GRS_1980\",6378137.0,298.257222101]],PRIMEM[\"Greenwich\",0.0],CS[ellipsoidal,2],AXIS[\"Latitude (lat)\",north,ORDER[1]],AXIS[\"Longitude (lon)\",east,ORDER[2]],ANGLEUNIT[\"Degree\",0.0174532925199433]],CONVERSION[\"Lambert_Conformal_Conic\",METHOD[\"Lambert_Conformal_Conic\"],PARAMETER[\"False_Easting\",2000000.0,LENGTHUNIT[\"Foot_US\",0.3048006096012192]],PARAMETER[\"False_Northing\",0.0,LENGTHUNIT[\"Foot_US\",0.3048006096012192]],PARAMETER[\"Central_Meridian\",-79.0],PARAMETER[\"Standard_Parallel_1\",34.3333333333333],PARAMETER[\"Standard_Parallel_2\",36.1666666666667],PARAMETER[\"Latitude_Of_Origin\",33.75]],CS[Cartesian,2],AXIS[\"Easting (X)\",east,ORDER[1]],AXIS[\"Northing (Y)\",north,ORDER[2]],LENGTHUNIT[\"Foot_US\",0.3048006096012192]]"
  }
 },
 "bandCount": 1,
 "rasterFunctionInfos": [
  {
   "help": "",
   "name": "None",
   "description": ""
  }
 ],
 "supportsStatistics": false,
 "sortableFields": "",
 "minValues": [
  0
 ],
 "allowRasterFunction": true,
 "allowComputeTiePoints": false,
 "serviceDataType": "esriImageServiceDataTypeGeneric",
 "supportsAdvancedQueries": false,
 "currentVersion": 12.1,
 "sortValue": null,
 "objectIdField": "",
 "maxLOD": 20,
 "blockHeight": 128,
 "initialExtent": {
  "ymin": 483261.93247259915,
  "xmin": 395840.37473147199,
  "ymax": 583586.92909101141,
  "xmax": 590733.20014483994,
  "spatialReference": {
   "wkt": "PROJCS[\"NAD_1983_StatePlane_North_Carolina_FIPS_3200_Feet\",GEOGCS[\"GCS_North_American_1983\",DATUM[\"D_North_American_1983\",SPHEROID[\"GRS_1980\",6378137.0,298.257222101]],PRIMEM[\"Greenwich\",0.0],UNIT[\"Degree\",0.0174532925199433]],PROJECTION[\"Lambert_Conformal_Conic\"],PARAMETER[\"False_Easting\",2000000.0],PARAMETER[\"False_Northing\",0.0],PARAMETER[\"Central_Meridian\",-79.0],PARAMETER[\"Standard_Parallel_1\",34.3333333333333],PARAMETER[\"Standard_Parallel_2\",36.1666666666667],PARAMETER[\"Latitude_Of_Origin\",33.75],UNIT[\"Foot_US\",0.3048006096012192]]",
   "wkt2": "PROJCRS[\"NAD_1983_StatePlane_North_Carolina_FIPS_3200_Feet\",BASEGEOGCRS[\"GCS_North_American_1983\",DATUM[\"D_North_American_1983\",ELLIPSOID[\"GRS_1980\",6378137.0,298.257222101]],PRIMEM[\"Greenwich\",0.0],CS[ellipsoidal,2],AXIS[\"Latitude (lat)\",north,ORDER[1]],AXIS[\"Longitude (lon)\",east,ORDER[2]],ANGLEUNIT[\"Degree\",0.0174532925199433]],CONVERSION[\"Lambert_Conformal_Conic\",METHOD[\"Lambert_Conformal_Conic\"],PARAMETER[\"False_Easting\",2000000.0,LENGTHUNIT[\"Foot_US\",0.3048006096012192]],PARAMETER[\"False_Northing\",0.0,LENGTHUNIT[\"Foot_US\",0.3048006096012192]],PARAMETER[\"Central_Meridian\",-79.0],PARAMETER[\"Standard_Parallel_1\",34.3333333333333],PARAMETER[\"Standard_Parallel_2\",36.1666666666667],PARAMETER[\"Latitude_Of_Origin\",33.75]],CS[Cartesian,2],AXIS[\"Easting (X)\",east,ORDER[1]],AXIS[\"Northing (Y)\",north,ORDER[2]],LENGTHUNIT[\"Foot_US\",0.3048006096012192]]"
  }
 },
 "pixelSizeX": 1.7154850487057949,
 "pixelSizeY": 1.7154850487057942,
 "defaultMosaicMethod": "Center",
 "name": "Imagery/Cherokee1934_1938",
 "allowedMosaicMethods": "",
 "fields": [],
 "allowAnalysis": true,
 "hasRasterAttributeTable": false,
 "useStandardizedQueries": false,
 "description": "",
 "pixelType": "U8",
 "meanPixelSize": 0.52288088860730353,
 "exportTilesAllowed": false,
 "editFieldsInfo": null,
 "rasterTypeInfos": [
  {
   "help": "",
   "name": "Raster Dataset",
   "description": "Supports all ArcGIS Raster Datasets"
  }
 ],
 "defaultResamplingMethod": "Bilinear",
 "itemAccess": false,
 "minScale": 1114576243.8943694,
 "cacheType": "Map",
 "serviceProperties": "Center<\/MosaicMethod>First<\/MosaicOperator>true<\/SortAscending><\/LockImageID><\/TileOrderField>0<\/TileOrderBase>0.000000<\/AvgImageSpacingX>0.000000<\/AvgImageSpacingY>0.0<\/ViewPointX>0.0<\/ViewPointY>0.0<\/ViewPointDefShiftX>0.0<\/ViewPointDefShiftY>None<\/CompressionMethod>75<\/CompressionQuality>0.010000<\/CompressionTolerance>Bilinear<\/SamplingMethod><\/ImageServiceProperties><\/ImageServer>",
 "advancedQueryCapabilities": {
  "supportsStatistics": false,
  "supportsSqlExpression": false,
  "supportsOrderBy": false,
  "useStandardizedQueries": false,
  "supportsPagination": false,
  "supportsDistinct": false
 },
 "capabilities": "Image,Metadata,Mensuration,Tilemap",
 "maxScale": 1062.9427374786085,
 "singleFusedMapCache": true,
 "stdvValues": [
  80.145204396457004
 ],
 "allowedFields": "",
 "minPixelSize": 0.92269150311903947,
 "storageInfo": {
  "storageFormat": "esriMapCacheStorageModeCompactV2",
  "packetSize": 128
 },
 "noDataValues": [
  0
 ],
 "sortAscending": true,
 "inspectionCapabilities": "",
 "minLOD": 0,
 "maxPixelSize": 967512.16557454993,
 "noDataValue": 0,
 "allowedCompressions": "None,JPEG,LZ77,LERC",
 "uncompressedSize": 6644023056,
 "serviceDescription": "Imagery/Cherokee1934_1938",
 "allowCopy": true,
 "copyrightText": "",
 "mensurationCapabilities": "Basic",
 "ownershipBasedAccessControlForRasters": null
}
